BEGIN:VCALENDAR
VERSION:2.0
METHOD:PUBLISH
BEGIN:VEVENT
DTSTART:20190227T103000
DTEND:20190227T104500
LOCATION:4 Silvergum Court CALAMVALE, QLD 4116
TRANSP: OPAQUE
SEQUENCE:0
UID:
DTSTAMP:20190301T073919Z
SUMMARY:Home Open - Easy Living Low set 4 bedroom Home in a quite pocket of calamvale!
DESCRIPTION:Located close to Parklands Street Park, this lovely modern low set 4 bedroom home will be perfect for a family to move straight into.
A perfect place for the entertained with a large covered entertaining area, overlooking the low maintenance backyard.
Features:
-4 Carpeted bedrooms with built in robes
-2 Bathrooms, Main with Bath
-Split system Air conditioning in the lounge
-Double lock up Garage
-Fantastic rear covered entertaining area

* Full water charges apply as this property is water compliant
* A Pet will be considered upon application
* Please register online for an inspection
PRIORITY:1
CLASS:PUBLIC
BEGIN:VALARM
TRIGGER:-PT10080M
ACTION:DISPLAY
DESCRIPTION:Reminder
END:VALARM
END:VEVENT
END:VCALENDAR
