BEGIN:VCALENDAR
VERSION:2.0
METHOD:PUBLISH
BEGIN:VEVENT
DTSTART:20190227T120000
DTEND:20190227T121500
LOCATION:11/63 Northcote Street EAST BRISBANE, QLD 4169
TRANSP: OPAQUE
SEQUENCE:0
UID:
DTSTAMP:20190301T074032Z
SUMMARY:Home Open - Stylish Fully Furnished Top floor Apartment - looking for 12 month lease
DESCRIPTION:Bright and breezy top floor unit, with everything you need to make you feel at home. Sitting pretty in an ideal location you will find all amenities close by.
Just a short walk to the Ferry to take you into the City, minutes to The Gabba and Kangaroo Point cliffs, surrounded by cafes and restaurants with walking distance to the bus stop.

The space

 - Open plan living room includes contemporary lining furniture, with tv and dining table.
 - Kitchen is fully self contained for your convenience with laundry facilities including washing machine and dryer.
 - Both bedrooms come with queen size beds, built in robes and ceiling fans.
 - Enjoy the quietness of the sun room while reading a book or just relaxing.

 - Single lock up garage
 - Bus stop at the end of the street
 - Short walk to Ferry
 - Centrally located near shops and transport
 - 7 minute drive to CBD.

*Please register to inspect, wait at the front of complex for the agent.
PRIORITY:1
CLASS:PUBLIC
BEGIN:VALARM
TRIGGER:-PT10080M
ACTION:DISPLAY
DESCRIPTION:Reminder
END:VALARM
END:VEVENT
END:VCALENDAR
