BEGIN:VCALENDAR
VERSION:2.0
METHOD:PUBLISH
BEGIN:VEVENT
DTSTART:20190227T124500
DTEND:20190227T130000
LOCATION:37 Dykes Street Mount Gravatt East, QLD 4122
TRANSP: OPAQUE
SEQUENCE:0
UID:
DTSTAMP:20190301T073958Z
SUMMARY:Home Open - Unique Bungalow style, 3 bedroom home
DESCRIPTION:Situated in Mt Gravatt East, this lowset home is now available for rent. 
Featuring: 
* 3 bedrooms 
* 1 Bathroom
* Combined lounge and dining room
* Rear covered patio
* Electric Cooking
* Single Carport
*Separate Storage Shed 

A pet will be considered upon application, no Dogs.

Location:
Within the Mount Gravatt East Primary and the Mansfield High School catchment areas.
Close proximity to shops and transport, easy access to creek and Broadwater roads.
PRIORITY:1
CLASS:PUBLIC
BEGIN:VALARM
TRIGGER:-PT10080M
ACTION:DISPLAY
DESCRIPTION:Reminder
END:VALARM
END:VEVENT
END:VCALENDAR
