BEGIN:VCALENDAR
VERSION:2.0
METHOD:PUBLISH
BEGIN:VEVENT
DTSTART:20190227T133000
DTEND:20190227T134500
LOCATION:55 Shuttleworth Street KURABY, QLD 4112
TRANSP: OPAQUE
SEQUENCE:0
UID:
DTSTAMP:20190301T074123Z
SUMMARY:Home Open - Great value easy renting low set home
DESCRIPTION:Welcome to this well presented low set brick and tile spacious family home within minutes from schools, major shopping, trains & buses. Being a short drive from both the Pacific & Gateway Motorways and Griffith University makes this a must see! Offering plenty of space for a growing family.

Features include:

* 5 spacious bedrooms, all with built in robes two with air condition units
* Master bedroom with ensuite, walk in robe and split system air condition unit
* Modern kitchen with induction cooktop and dishwasher
* Large tiled combination living, dining and kitchen area with air condition unit
* Updated modern bathroom with separate bath and toilet
* Tiled patio area to rear with large roller block out blind for extra privacy
* Large internal laundry with access to patio and yard
* Security screens and window locks throughout
* Video and voice intercom for added security to the property
* Easy to maintain gardens
* Solar hot water system
* Fully fenced
* Small shed to side not for tenant use
* Tenants to pay for full water consumption

Sorry, not pets

*Please register to inspect, and be informed of any updates
PRIORITY:1
CLASS:PUBLIC
BEGIN:VALARM
TRIGGER:-PT10080M
ACTION:DISPLAY
DESCRIPTION:Reminder
END:VALARM
END:VEVENT
END:VCALENDAR
